BEGIN:VCALENDAR
VERSION:2.0
PRODID:-//Mandjap - ECPv4.2.2//NONSGML v1.0//EN
CALSCALE:GREGORIAN
METHOD:PUBLISH
X-WR-CALNAME:Mandjap
X-ORIGINAL-URL:http://mandjap.fr
X-WR-CALDESC:Events for Mandjap
BEGIN:VEVENT
DTSTART;TZID=UTC+1:20170817T210000
DTEND;TZID=UTC+1:20170817T230000
DTSTAMP:20260419T150859
CREATED:20170508T173441
LAST-MODIFIED:20170508T173441
UID:516-1503003600-1503010800@mandjap.fr
SUMMARY:Mandjap au Camping des 6 Stations
DESCRIPTION: \n\n\n\nLe Champsaur au rythme de la reggae world music ...!
URL:http://mandjap.fr/event/mandjap-camping-6-stations-2/
LOCATION:St Jean St Nicolas\, 05260\, France
END:VEVENT
END:VCALENDAR