BEGIN:VCALENDAR
VERSION:2.0
PRODID:-//Mandjap - ECPv4.2.2//NONSGML v1.0//EN
CALSCALE:GREGORIAN
METHOD:PUBLISH
X-WR-CALNAME:Mandjap
X-ORIGINAL-URL:http://mandjap.fr
X-WR-CALDESC:Events for Mandjap
BEGIN:VEVENT
DTSTART;TZID=UTC+1:20170801T203000
DTEND;TZID=UTC+1:20170801T223000
DTSTAMP:20260419T141448
CREATED:20170617T124811
LAST-MODIFIED:20170617T124811
UID:529-1501619400-1501626600@mandjap.fr
SUMMARY:Mandjap - Concert aux Nocturnes de Gap
DESCRIPTION:
URL:http://mandjap.fr/event/mandjap-concert-aux-nocturnes-de-gap/
LOCATION:Rue carnot\, Gap\, 05000\, France
END:VEVENT
END:VCALENDAR