BEGIN:VCALENDAR
VERSION:2.0
PRODID:-//Mandjap - ECPv4.2.2//NONSGML v1.0//EN
CALSCALE:GREGORIAN
METHOD:PUBLISH
X-WR-CALNAME:Mandjap
X-ORIGINAL-URL:http://mandjap.fr
X-WR-CALDESC:Events for Mandjap
BEGIN:VEVENT
DTSTART;TZID=UTC+1:20180825T210000
DTEND;TZID=UTC+1:20180825T230000
DTSTAMP:20260421T090051
CREATED:20180820T164358
LAST-MODIFIED:20180820T164548
UID:596-1535230800-1535238000@mandjap.fr
SUMMARY:Mandjap en concert à la Galéjade
DESCRIPTION:\n...dernier concert de la saison avant de nouvelles aventures !!!\nYeahpaaaa  !!!
URL:http://mandjap.fr/event/mandjap-concert-a-galejade-2/
LOCATION:rue de la Combette\, Savines le Lac\, 05160
END:VEVENT
END:VCALENDAR